BEGIN:VCALENDAR
VERSION:2.0
PRODID:-//Squarespace Inc/Squarespace 6//v6//EN
BEGIN:VEVENT
UID:5d759eed136503221dc516b2@squarespace.com
DTSTAMP:20200116T093048Z
DTSTART:20200205T020000Z
DTEND:20200305T040000Z
SUMMARY:DRAWING &amp\; PAINTING WITH TANGERINE MEG
GEO:-35.21391;138.536474
LOCATION:Fleurieu Arthouse\, Hardys Tintara 202 Main Road\, McLAren Vale\, 
 Australia
END:VEVENT
END:VCALENDAR
