BEGIN:VCALENDAR
VERSION:2.0
PRODID:-//Squarespace Inc/Squarespace 6//v6//EN
BEGIN:VEVENT
UID:5d759ecf75813e4e60cda4cd@squarespace.com
DTSTAMP:20190909T003756Z
DTSTART:20190919T030000Z
DTEND:20190919T050000Z
SUMMARY:DRAWING &amp\; PAINTING WITH TANGERINE MEG
GEO:-35.21391;138.536474
LOCATION:Fleurieu Arthouse\, Hardys Tintara 202 Main Road\, McLAren Vale\, 
 Australia
END:VEVENT
END:VCALENDAR
