BEGIN:VCALENDAR
VERSION:2.0
PRODID:-//Squarespace Inc/Squarespace 6//v6//EN
BEGIN:VEVENT
UID:5d5e0da80e68c400012e10e4@squarespace.com
DTSTAMP:20190909T003735Z
DTSTART:20190912T030000Z
DTEND:20190912T050000Z
SUMMARY:DRAWING &amp\; PAINTING WITH TANGERINE MEG
GEO:-35.21391;138.536474
LOCATION:Fleurieu Arthouse\, Hardys Tintara 202 Main Road\, McLAren Vale\, 
 Australia
END:VEVENT
END:VCALENDAR
