BEGIN:VCALENDAR
VERSION:2.0
PRODID:-//Squarespace Inc/Squarespace 6//v6//EN
BEGIN:VEVENT
UID:5cf206cde4dc43000150f42e@squarespace.com
DTSTAMP:20190601T050708Z
DTSTART:20190613T053000Z
DTEND:20190613T063000Z
SUMMARY:EMPOWER YOUR INNER PSYCHIC with International Medium Alice Terry
END:VEVENT
END:VCALENDAR
