BEGIN:VCALENDAR
VERSION:2.0
PRODID:-//Squarespace Inc/Squarespace 6//v6//EN
BEGIN:VEVENT
UID:5cff1ad1db17ef00014719b5@squarespace.com
DTSTAMP:20190611T032635Z
DTSTART:20190628T093000Z
DTEND:20190628T120000Z
SUMMARY:Friday Night Recycled Glass Mosaic Class (adult)
END:VEVENT
END:VCALENDAR
