BEGIN:VCALENDAR
VERSION:2.0
PRODID:-//Squarespace Inc/Squarespace 6//v6//EN
BEGIN:VEVENT
UID:5cd8ebfd9b747a78d843dae9@squarespace.com
DTSTAMP:20190522T083015Z
DTSTART:20190604T083000Z
DTEND:20190608T103000Z
SUMMARY:Get Clear on Your Marketing (for creatives) 
GEO:-35.212547;138.536543
LOCATION:FLeurieu Arthouse\, 202 Main Road\, McLaren Vale\, Australia
END:VEVENT
END:VCALENDAR
