BEGIN:VCALENDAR
VERSION:2.0
PRODID:-//Squarespace Inc/Squarespace 6//v6//EN
BEGIN:VEVENT
UID:5d1057e9db9e920001d39ed8@squarespace.com
DTSTAMP:20190624T052738Z
DTSTART:20190711T033000Z
DTEND:20190719T053000Z
SUMMARY:Kids School Holiday Crafternoons
END:VEVENT
END:VCALENDAR
