BEGIN:VCALENDAR
VERSION:2.0
PRODID:-//Squarespace Inc/Squarespace 6//v6//EN
BEGIN:VEVENT
UID:5d5699ecc931d100012b0652@squarespace.com
DTSTAMP:20190816T120150Z
DTSTART:20190816T120000Z
DTEND:20190816T130000Z
SUMMARY:LEARN TO CHUNKY KNIT BEGINNERS 1
GEO:-35.21391;138.536474
LOCATION:Fleurieu Arthouse\, Hardys Tintara\, McLaren Vale\, Australia
END:VEVENT
END:VCALENDAR
