BEGIN:VCALENDAR
VERSION:2.0
PRODID:-//Squarespace Inc/Squarespace 6//v6//EN
BEGIN:VEVENT
UID:5c49674603ce64a98709b6c2@squarespace.com
DTSTAMP:20190320T113020Z
DTSTART:20190415T003000Z
DTEND:20190415T033000Z
SUMMARY:Mosaic for Beginners
GEO:-35.212402;138.536477
LOCATION:Fleurieu Arthouse\, Hardys Tintara\, 202 Main Road\, McLaren Vale 
 SA 5171\, Australia
END:VEVENT
END:VCALENDAR
