BEGIN:VCALENDAR
VERSION:2.0
PRODID:-//Squarespace Inc/Squarespace 6//v6//EN
BEGIN:VEVENT
UID:5e2142cb9713f543997f8488@squarespace.com
DTSTAMP:20200117T051941Z
DTSTART:20200214T080000Z
DTEND:20200214T103000Z
SUMMARY:PAINT &amp\; SIP - VALENTINES COUPLES NIGHT - PAINT YOUR PARTNER 
GEO:-35.213781;138.53675
LOCATION:FLeurieu Arthouse\, 202 Main Road\, McLaren Vale\, Australia
END:VEVENT
END:VCALENDAR
