BEGIN:VCALENDAR
VERSION:2.0
PRODID:-//Squarespace Inc/Squarespace 6//v6//EN
BEGIN:VEVENT
UID:5cfde3474342210001e6f7a0@squarespace.com
DTSTAMP:20190610T051928Z
DTSTART:20190616T033000Z
DTEND:20190616T063000Z
SUMMARY:Papier Mache Sculpture ( for children)
END:VEVENT
END:VCALENDAR
