BEGIN:VCALENDAR
VERSION:2.0
PRODID:-//Squarespace Inc/Squarespace 6//v6//EN
BEGIN:VEVENT
UID:5cd8f9fee624d80001dd9e3a@squarespace.com
DTSTAMP:20190722T101939Z
DTSTART:20190806T083000Z
DTEND:20190806T103000Z
SUMMARY:Plan &amp\; Create for Social Media
GEO:-35.212547;138.536543
LOCATION:FLeurieu Arthouse\, 202 Main Road\, McLaren Vale\, Australia
END:VEVENT
END:VCALENDAR
