BEGIN:VCALENDAR
VERSION:2.0
PRODID:-//Squarespace Inc/Squarespace 6//v6//EN
BEGIN:VEVENT
UID:5c92249b71c10b94b57e2b3c@squarespace.com
DTSTAMP:20190321T091352Z
DTSTART:20190328T073000Z
DTEND:20190328T103000Z
SUMMARY:Abstract Protea with Art Jamma
END:VEVENT
END:VCALENDAR
