BEGIN:VCALENDAR
VERSION:2.0
PRODID:-//Squarespace Inc/Squarespace 6//v6//EN
BEGIN:VEVENT
UID:5bbc82fce2c483cbb09ee5f6@squarespace.com
DTSTAMP:20181114T040951Z
DTSTART:20181118T020000Z
DTEND:20181118T050000Z
SUMMARY:Shibori Cushion Cover Workshop 
GEO:-35.213901;138.536643
LOCATION:Fleurieu Arthouse\, 202 Main Road\, McLaren Vale\, Australia
END:VEVENT
END:VCALENDAR
