BEGIN:VCALENDAR
VERSION:2.0
PRODID:-//Squarespace Inc/Squarespace 6//v6//EN
BEGIN:VEVENT
UID:5c9227be419202e07e107d04@squarespace.com
DTSTAMP:20190321T084416Z
DTSTART:20190404T073000Z
DTEND:20190404T103000Z
SUMMARY: Sunflowers by Van Gogh
GEO:-35.212402;138.536477
LOCATION:Fleurieu Arthouse\, Hardys Tintara\, McLaren Vale\, Australia
END:VEVENT
END:VCALENDAR
