BEGIN:VCALENDAR
VERSION:2.0
PRODID:-//Squarespace Inc/Squarespace 6//v6//EN
BEGIN:VEVENT
UID:5d89a7a222a4747095bc5869@squarespace.com
DTSTAMP:20191001T021253Z
DTSTART:20191003T000000Z
DTEND:20191010T223000Z
SUMMARY:The Makers Room School Holiday Workshops
GEO:-35.212547;138.536543
LOCATION:Fleurieu Arthouse\, 202 Main Road\, McLaren Vale\, Australia
END:VEVENT
END:VCALENDAR
