BEGIN:VCALENDAR
VERSION:2.0
PRODID:-//Squarespace Inc/Squarespace 6//v6//EN
BEGIN:VEVENT
UID:5c922698eef1a1ce84377b99@squarespace.com
DTSTAMP:20190320T114238Z
DTSTART:20190418T083000Z
DTEND:20190418T110000Z
SUMMARY:The Scream
END:VEVENT
END:VCALENDAR
