BEGIN:VCALENDAR
VERSION:2.0
PRODID:-//Squarespace Inc/Squarespace 6//v6//EN
BEGIN:VEVENT
UID:5cd8fb27971a184bd00f5262@squarespace.com
DTSTAMP:20190513T051211Z
DTSTART:20190811T003000Z
DTEND:20190811T013000Z
SUMMARY:Understanding Art Through Meditation
GEO:-35.212547;138.536543
LOCATION:FLeurieu Arthouse\, 202 Main Road\, McLaren Vale\, Australia
END:VEVENT
END:VCALENDAR
