BEGIN:VCALENDAR
VERSION:2.0
PRODID:-//Squarespace Inc/Squarespace 6//v6//EN
BEGIN:VEVENT
UID:5d358124a0d1960001920c79@squarespace.com
DTSTAMP:20190722T101412Z
DTSTART:20190824T033000Z
DTEND:20190824T060000Z
SUMMARY:Wake Up Your Creativity with Megan Spencer
END:VEVENT
END:VCALENDAR
